BEGIN:VCALENDAR
VERSION:2.0
PRODID:-//eventon.com NONSGML v1.0//EN
BEGIN:VEVENT
UID:69ec3bd801f77
DTSTAMP:20260425T045816
DTSTART:20210929T113000Z
DTEND:20210929T133000Z
LOCATION:Zoom 
SUMMARY:Copyright Education and Awareness Working Group
DESCRIPTION: Members and officers only
END:VEVENT
END:VCALENDAR